Workbook

Sheet výpočet
B1: Ekoplatba 2027 (kultura R) – hospodaření s organickou hmotou v hospodářském roce 2026/2027 (od 1. 7. 2026 do 30. 6. 2027) | F1: IČO | G1: ID LPIS | I1: Podrobnosti k výpočtu: | N1: Potřeba: | P1: =IF(C8=0,0,P9) -> 0 | Q1: =N2 -> Plnění: | R1: =N1 -> Potřeba:
B2: Obchodní závod | N2: Plnění: | P2: =IF(C8=0,0,P54) -> 0 | Q2: =P2 -> 0 | R2: =P1 -> 0
F3: =IF(F2=0,"vyplňte IČO uživatele (pokud má)","") -> vyplňte IČO uživatele (pokud má) | G3: =IF(G2=0,"vyplňte ID uživatele, podle LPIS","") -> vyplňte ID uživatele, podle LPIS
B4: Podmínka pro základní celofaremní ekoplatbu (celá platba) | C4: =IF(C8=0,"",IF(P4<0,"nesplněna","splněna")) | F4: =IF(P1>0,P1*C8,0) -> 0 | G4: =IF(F4=0,"","ha (rozsah potřebných opatření)") | N4: Rozdíl: | P4: =IF(C8=0,0,(P2-P1)) -> 0 | R4: Potřeba dodání organických látek (OL), v průměru na výměru RGU (t OL/ha)
B5: Bilance organické hmoty | C5: =IF(C8=0,"",IF(R55<0,"záporná",IF(R55<0.5,"vyrovnaná","zlepšující"))) | F5: =P2*C8 -> 0 | G5: =IF(F5>0,"ha (rozsah provedených opatření)","")
B7: Obhospodařovaná plocha (Jednotná žádost /JŽ/, květen 2027) | C7: Výměra (ha) | F7: =IF(C8=0,"",IF(F4=0,"",IF(F5/F4>1,"",IF(F5=0,0,F5/F4)))) | G7: =IF(F7="","",IF(F4=0,"",IF(F5=0,"","plnění"))) | P7: Potřeba provedení vhodných opatření
B8: Celková výměra (kultury R + G + U) | D8: Podle údajů pro žádost o dotace na rok 2027 | F8: =IF(C8=0,0,IF(P4<0,IF(F7<100%,IF(F4<0,0,1-F7),0),0)) -> 0 | G8: =IF(F8=0,"","neplnění") | M8: Základní potřeba, před korekcí na plodiny (%, ha): | P8: =IF(C8=0,"",(35%*C10+30%*(C9+C11))/C8) | Q8: =IF(C8=0,"",C8*P8) | R8: =IF(C$8=0,"",((30*0.165)*Q8)/C$8)
B9: … z toho: lehká půda | D9: Informace o zařazení DPB podle převažujícího půdního druhu (Registr půdy – LPIS): Tisky – Informativní výpisy – Základní (tab. Součet výměr účinných dle kultur a režimů EZ) | G9: =IF(C8=0,"",IF(P1<0,"podmínka splněna",IF(F7=100%,"podmínka splněna",IF(F7>100%,"podmínka splněna",IF(F8>15%,IF(F8>25%,IF(F8>50%,"ekoplatba se neposkytne","snížení ekoplatby o 50 %"),"snížení ekoplatby o 10 %"),"snížení ekoplatby o 5 %"))))) | M9: Výsledný rozsah potřebných opatření, po korekci na plodiny (%, ha): | P9: =P18 | Q9: =Q18 | R9: =R18
B10: střední půda (dopočet) | C10: =C8-C9-C11 -> 0 | F10: Snížení základní celofaremní ekoplatby při neplnění podmínky (ve vztahu k rozsahu potřebných opatření)
B11: těžká půda
B13: Vybrané plodiny (JŽ, květen 2027) | C13: Výměra (ha) | D13: Upřesnění potřeby opatření podle výměry vybraných plodin (JŽ 2027) | F13: neplnění | G13: snížení ekoplatby na výměře R | L13: =B13 -> Vybrané plodiny (JŽ, květen 2027) | M13: Koef. (na 1 ha) | N13: Podíl plodin (%) | O13: Okopaniny, kukuřice a zelenina zvyšují rozsah potřebných opatření, naopak víceleté pícniny rozsah opatření snižují. | P13: Korekce potřeby opatření podle plodin (%, ha) | R13: Potřeba (t OL/ha RGU)
B14: Brambory, cukrová řepa, řepa krmná, zelenina1) | D14: 1) brokolice, celer, cuketa, meloun, okurka, pór, rajče, tykev, zelí | F14: ≤ 15 % | G14: o 5 % | L14: Brambory, cukrová řepa, řepa krmná, zelenina1) | M14: 0.45 | N14: =IF(C$8=0,0,C14/C$8) -> 0 | P14: =IF($N14=0,0,$N14*M14) -> 0 | Q14: =C14*M14 -> 0 | R14: =IF(C$8=0,"",((30*0.165)*Q14)/C$8)
B15: Kukuřice, zelenina2) | D15: 2) česnek, křen selský jednoletý, květák, mrkev, paprika, pastinák | F15: > 15 %, ≤ 25 % | G15: o 10 % | L15: Kukuřice, zelenina2) | M15: 0.25 | N15: =IF(C$8=0,0,C15/C$8) -> 0 | P15: =IF($N15=0,0,$N15*M15) -> 0 | Q15: =C15*M15 -> 0 | R15: =IF(C$8=0,"",((30*0.165)*Q15)/C$8)
B16: Jetel3) nebo vojtěška3), včetně semenářských porostů | D16: 3) pouze čisté porosty | F16: > 25 %, ≤ 50 % | G16: o 50 % | L16: Jetel3) nebo vojtěška3), včetně semenářských porostů | M16: -0.9 | N16: =IF(C$8=0,0,C16/C$8) -> 0 | P16: =IF($N16=0,0,$N16*M16) -> 0 | Q16: =C16*M16 -> 0 | R16: =IF(C$8=0,"",((30*0.165)*Q16)/C$8)
B17: Ostatní víceleté pícniny (R)4), trávy na semeno, travní porost (G) | D17: 4) včetně směsí (např. jetelotráva) | F17: > 50 % | G17: ekoplatba se neposkytne | L17: Ostatní víceleté pícniny (R)4), trávy na semeno, travní porost (G) | M17: -0.7 | N17: =IF(C$8=0,0,C17/C$8) -> 0 | P17: =IF($N17=0,0,$N17*M17) -> 0 | Q17: =C17*M17 -> 0 | R17: =IF(C$8=0,"",((30*0.165)*Q17)/C$8)
B18: =IF(F8=100%,"doplňte rozsah opatření (jinak zůstane 100% neplnění):","") | C18: =IF(F8=100%,"↓","") | F18: Snížení základní celofaremní ekoplatby při nezpracování výpočtu | O18: Při dosažení záporné hodnoty nejsou potřeba žádná opatření | P18: =IF(C8=0,"",P8+P14+P15+P16+P17) | Q18: =IF(C8=0,"",Q8+Q14+Q15+Q16+Q17) | R18: =IF(C$8=0,"",((30*0.165)*Q18)/C$8)
B20: Dodání organické hmoty do půdy (2026/2027) | C20: Spotřeba (t) | D20: Celková spotřeba v období od 1. 7. 2026 do 30. 6. 2027, na výměře RGU pro JŽ 2027 | F20: předložení výpočtu do 30 dnů po kontrole – snížení o 3 % | L20: =B20 -> Dodání organické hmoty do půdy (2026/2027) | M20: Koef. (na 1 ha) | N20: ...při směrné dávce (t/ha) | O20: Obsah sušiny dle vyhl. | Q20: Přepočt. plocha (ha) | R20: Plnění (t OL/ha RGU) | S20: Plocha i OL jsou přepočteny na efekt hnoje v dávce 30 t/ha
B21: Hnůj, separát kejdy | D21: Při výpočtu se vychází z celkové spotřeby hnojiv nebo upravených kalů na výměře kultur R, G, případně U v hospodářském roce hnojení. Pokud se použije např. kejda skotu v kombinaci se slámou obilnin, tak se tato opatření promítnou ve více řádcích: 1) řádek 26: kejda skotu (započteno v celk. množství kejdy aplikované na různé DPB) 2) řádek 40: sláma (veškerá ponechaná sláma, bez ohledu na hnojení kejdou apod.) 3) řádek 41: jen kombinace slámy obilnin s kejdou, v tomto případě s kejdou skotu Platí tedy pravidlo, že při překryvu více jednotlivých opatření (vč. meziplodin a technologií) na stejné ploše se tyto plochy započtou vícekrát. | F21: nepředložení výpočtu do 30 dnů po kontrole – bez ekoplatby | I21: 0.22 | L21: =B21 -> Hnůj, separát kejdy | M21: 1 | N21: 30 | O21: 0.22 | P21: =J21 -> 0 | Q21: =(C21/N21)*M21 -> 0 | R21: =IF(C$8=0,"",((30*0.165)*Q21)/C$8)
B22: Separát digestátu, tuhý digestát | I22: 0.23 | L22: =B22 -> Separát digestátu, tuhý digestát | M22: 0.75 | N22: 25 | O22: 0.23 | P22: =J22 -> 0 | Q22: =(C22/N22)*M22 -> 0 | R22: =IF(C$8=0,"",((30*0.165)*Q22)/C$8)
B23: Kompost s poměrem C:N 10 a vyšším | I23: 0.4 | L23: =B23 -> Kompost s poměrem C:N 10 a vyšším | M23: 1 | N23: 15 | O23: 0.4 | P23: =J23 -> 0 | Q23: =(C23/N23)*M23 -> 0 | R23: =IF(C$8=0,"",((30*0.165)*Q23)/C$8)
B24: Kompost s poměrem C:N nižším než 10 | I24: 0.4 | L24: =B24 -> Kompost s poměrem C:N nižším než 10 | M24: 0.65 | N24: 15 | O24: 0.4 | P24: =J24 -> 0 | Q24: =(C24/N24)*M24 -> 0 | R24: =IF(C$8=0,"",((30*0.165)*Q24)/C$8)
B25: Upravený kal (ve 100% sušině) | L25: =B25 -> Upravený kal (ve 100% sušině) | M25: 0.4 | N25: 5 | O25: 1 | Q25: =(C25/N25)*M25 -> 0 | R25: =IF(C$8=0,"",((30*0.165)*Q25)/C$8)
B26: Kejda skotu | I26: 0.073 | L26: =B26 -> Kejda skotu | M26: 0.18 | N26: 20 | O26: 0.073 | P26: =J26 -> 0 | Q26: =(C26/N26)*M26 -> 0 | R26: =IF(C$8=0,"",((30*0.165)*Q26)/C$8)
B27: Fugát kejdy skotu | I27: 0.058 | L27: =B27 -> Fugát kejdy skotu | M27: 0.15 | N27: 20 | O27: 0.058 | P27: =J27 -> 0 | Q27: =(C27/N27)*M27 -> 0 | R27: =IF(C$8=0,"",((30*0.165)*Q27)/C$8)
B28: Kejda prasat | I28: 0.053 | L28: =B28 -> Kejda prasat | M28: 0.1 | N28: 20 | O28: 0.053 | P28: =J28 -> 0 | Q28: =(C28/N28)*M28 -> 0 | R28: =IF(C$8=0,"",((30*0.165)*Q28)/C$8)
B29: Fugát kejdy prasat | I29: 0.034 | L29: =B29 -> Fugát kejdy prasat | M29: 0.07 | N29: 20 | O29: 0.034 | P29: =J29 -> 0 | Q29: =(C29/N29)*M29 -> 0 | R29: =IF(C$8=0,"",((30*0.165)*Q29)/C$8)
B30: Digestát | I30: 0.065 | L30: =B30 -> Digestát | M30: 0.15 | N30: 20 | O30: 0.065 | P30: =J30 -> 0 | Q30: =(C30/N30)*M30 -> 0 | R30: =IF(C$8=0,"",((30*0.165)*Q30)/C$8)
B31: Fugát digestátu | I31: 0.043 | L31: =B31 -> Fugát digestátu | M31: 0.1 | N31: 20 | O31: 0.043 | P31: =J31 -> 0 | Q31: =(C31/N31)*M31 -> 0 | R31: =IF(C$8=0,"",((30*0.165)*Q31)/C$8)
B32: Výpalky melasové zahuštěné | I32: 0.3 | L32: =B32 -> Výpalky melasové zahuštěné | M32: 0.15 | N32: 5 | O32: 0.3 | P32: =J32 -> 0 | Q32: =(C32/N32)*M32 -> 0 | R32: =IF(C$8=0,"",((30*0.165)*Q32)/C$8)
B33: Výpalky lihovarnické | I33: 0.05 | L33: =B33 -> Výpalky lihovarnické | M33: 0.1 | N33: 20 | O33: 0.05 | P33: =J33 -> 0 | Q33: =(C33/N33)*M33 -> 0 | R33: =IF(C$8=0,"",((30*0.165)*Q33)/C$8)
B34: Drůbeží trus sušený | I34: 0.73 | L34: =B34 -> Drůbeží trus sušený | M34: 0.3 | N34: 5 | O34: 0.73 | P34: =J34 -> 0 | Q34: =(C34/N34)*M34 -> 0 | R34: =IF(C$8=0,"",((30*0.165)*Q34)/C$8)
B35: Drůbeží trus s podestýlkou | I35: 0.42 | L35: =B35 -> Drůbeží trus s podestýlkou | M35: 0.17 | N35: 5 | O35: 0.42 | P35: =J35 -> 0 | Q35: =(C35/N35)*M35 -> 0 | R35: =IF(C$8=0,"",((30*0.165)*Q35)/C$8)
B36: Drůbeží trus uleželý | I36: 0.32 | L36: =B36 -> Drůbeží trus uleželý | M36: 0.13 | N36: 5 | O36: 0.32 | P36: =J36 -> 0 | Q36: =(C36/N36)*M36 -> 0 | R36: =IF(C$8=0,"",((30*0.165)*Q36)/C$8)
B37: =IF(F8=100%,"doplňte rozsah opatření (jinak zůstane 100% neplnění):","") | C37: =IF(F8=100%,"↓","") | L37: Celkem – hnojení | Q37: =SUM(Q21:Q36) -> 0 | R37: =SUM(R21:R36) -> 0
B39: Dodání organické hmoty a další opatření (2026/2027) | C39: Výměra (ha) | D39: Opatření provedená v období od 1. 7. 2026 do 30. 6. 2027, na výměře RGU pro JŽ 2027 | L39: =B39 -> Dodání organické hmoty a další opatření (2026/2027) | M39: Koef. (na 1 ha) | Q39: Přepočt. plocha (ha) | R39: Plnění (t OL/ha RGU) | S39: Plocha i OL jsou přepočteny na efekt hnoje v dávce 30 t/ha
B40: Sláma obilnin (vč. kukuřice na zrno a CCM nebo strniště po silážní kukuřici vyšší než 40 cm), olejnin, luskovin a dalších plodin pěstovaných na zrno či semeno (veškerá sláma, bez ohledu na přidání dusíku) atd. | D40: zapravení do půdy, případně ponechání na povrchu slámy obilnin (včetně kukuřice sklizené děleným způsobem), olejnin, luskovin (pěstovaných i jako zelenina) a ostatních plodin pěstovaných na zrno či semeno nebo rostlinných zbytků po sklizni jetelovin a trav na semeno; strniště po sklizni kukuřice na siláž o výšce nejméně 40 cm se považuje za slámu obilnin (od sklizně kukuřice v roce 2025) | L40: =B40 -> Sláma obilnin (vč. kukuřice na zrno a CCM nebo strniště po silážní kukuřici vyšší než 40 cm), olejnin, luskovin a dalších plodin pěstovaných na zrno či semeno (veškerá sláma, bez ohledu na přidání dusíku) atd. | M40: 0.5 | Q40: =C40*M40 -> 0 | R40: =IF(C$8=0,"",((30*0.165)*Q40)/C$8)
B41: … z toho kombinace: sláma obilnin + kejda, digestát, výpalky | D41: … z toho zapravení slámy obilnin v kombinaci se souběžnou nebo následnou aplikací kejdy, digestátu nebo výpalků | L41: =B41 -> … z toho kombinace: sláma obilnin + kejda, digestát, výpalky | M41: 0.1 | Q41: =C41*M41 -> 0 | R41: =IF(C$8=0,"",((30*0.165)*Q41)/C$8)
B42: Chrást, nesklizené hlavní plodiny | D42: Zapravení chrástu, případně nesklizených hlavních plodin | L42: =B42 -> Chrást, nesklizené hlavní plodiny | M42: 0.25 | Q42: =C42*M42 -> 0 | R42: =IF(C$8=0,"",((30*0.165)*Q42)/C$8)
B43: Nesklizený obrost víceletých pícnin | D43: Zapravení nesklizeného posledního obrostu víceletých pícnin | L43: =B43 -> Nesklizený obrost víceletých pícnin | M43: 0.2 | Q43: =C43*M43 -> 0 | R43: =IF(C$8=0,"",((30*0.165)*Q43)/C$8)
B44: Meziplodiny na zelené hnojení – následuje ozimá plodina | D44: Meziplodiny (nad 8 týdnů, bez odvozu zelené hmoty), po kterých následuje ozimá plodina | L44: =B44 -> Meziplodiny na zelené hnojení – následuje ozimá plodina | M44: 0.2 | Q44: =C44*M44 -> 0 | R44: =IF(C$8=0,"",((30*0.165)*Q44)/C$8)
...

Sheet k tisku
B1: Ekoplatba 2027 – výpočet pro vyhodnocení hospodaření s organickou hmotou na standardní orné půdě
B2: (automatický přenos údajů z vkládacího formuláře v 1. listu "výpočet")
B3: Tabulka č. 1 Základní údaje
B4: Obchodní závod | C4: =IF(výpočet!C2=0,"",výpočet!C2) | D4: IČO | E4: =IF(výpočet!F2=0,"",výpočet!F2) | F4: ID LPIS | G4: =IF(výpočet!G2=0,"",výpočet!G2)
B5: Hospodářský rok | C5: 2026/2027
B7: Tabulka č. 2 Výměra půdy a rozdělení podle půdního druhu
B8: Obhospodařovaná plocha | E8: Výměra (ha) | F8: Rozsah potřebných opatření (%, ha)
B9: Standardní orná půda (R), travní porost (G), úhor (U) | E9: =IF(výpočet!C8=0,"",výpočet!C8)
B10: … z toho: lehká půda | E10: =IF(výpočet!C9=0,"",výpočet!C9) | F10: 0.3
B11: střední půda | E11: =IF((výpočet!C9+výpočet!C11=0),'k tisku'!E9,výpočet!C8-výpočet!C9-výpočet!C11) | F11: 0.35
B12: těžká půda | E12: =IF(výpočet!C11=0,"",výpočet!C11) | F12: 0.3
B13: Základní rozsah potřebných opatření (vážený průměr, %) | F13: =výpočet!P8
B14: Základní rozsah potřebných opatření (přepočet na hektary) | F14: =IF(E9="","",F13*E9)
B16: Tabulka č. 3 Upřesnění rozsahu potřebných opatření podle výměry vybraných plodin
B17: Hlavní plodiny | D17: Váhový koeficient (na 1 ha) | E17: Výměra (ha) | F17: Přepočtená plocha (ha)
B18: Brambory, cukrová řepa, řepa krmná, brokolice, celer, cuketa, meloun, okurka, pór, rajče, tykev, zelí | D18: =výpočet!M14 -> 0.45 | E18: =IF(výpočet!C14=0,"",výpočet!C14) | F18: =IF(E18="","",D18*E18)
B19: Kukuřice, česnek, křen selský jednoletý, květák, mrkev, paprika, pastinák | D19: =výpočet!M15 -> 0.25 | E19: =IF(výpočet!C15=0,"",výpočet!C15) | F19: =IF(E19="","",D19*E19)
B20: Jetel nebo vojtěška, včetně semenářských porostů | D20: =výpočet!M16 -> -0.9 | E20: =IF(výpočet!C16=0,"",výpočet!C16) | F20: =IF(E20="","",D20*E20)
B21: Ostatní víceleté pícniny na standardní orné půdě, trávy na semeno, travní porost | D21: =výpočet!M17 -> -0.7 | E21: =IF(výpočet!C17=0,"",výpočet!C17) | F21: =IF(E21="","",D21*E21)
B22: Vliv plodin na rozsah potřebných opatření, celkem | F22: =IF(E9="","",SUM(F18:G21))
B23: Základní rozsah potřebných opatření podle půdního druhu (výsledná hodnota z tabulky č. 2) | F23: =F14
B24: Výsledný rozsah potřebných opatření po upřesnění podle půdního druhu a plodin | F24: =IF(E9="","",F22+F23)
B26: Tabulka č. 4 Dodání organické hmoty do půdy
B27: Použití hnojiv a upravených kalů | D27: Směrná dávka (t/ha) | E27: Váhový koeficient (na 1 ha) | F27: Celková spotřeba (t) | G27: Přepočtená plocha (ha)
B28: Hnůj, separát kejdy | D28: =výpočet!N21 -> 30 | E28: =výpočet!M21 -> 1 | F28: =IF(výpočet!C21=0,"",výpočet!C21) | G28: =IF(F28="","",F28/D28*E28)
B29: Separát digestátu, tuhý digestát | D29: =výpočet!N22 -> 25 | E29: =výpočet!M22 -> 0.75 | F29: =IF(výpočet!C22=0,"",výpočet!C22) | G29: =IF(F29="","",F29/D29*E29)
B30: Kompost s poměrem C:N 10 a vyšším | D30: =výpočet!N23 -> 15 | E30: =výpočet!M23 -> 1 | F30: =IF(výpočet!C23=0,"",výpočet!C23) | G30: =IF(F30="","",F30/D30*E30)
B31: Kompost s poměrem C:N nižším než 10 | D31: =výpočet!N24 -> 15 | E31: =výpočet!M24 -> 0.65 | F31: =IF(výpočet!C24=0,"",výpočet!C24) | G31: =IF(F31="","",F31/D31*E31)
B32: Upravený kal (ve 100% sušině) | D32: =výpočet!N25 -> 5 | E32: =výpočet!M25 -> 0.4 | F32: =IF(výpočet!C25=0,"",výpočet!C25) | G32: =IF(F32="","",F32/D32*E32)
B33: Kejda skotu | D33: =výpočet!N26 -> 20 | E33: =výpočet!M26 -> 0.18 | F33: =IF(výpočet!C26=0,"",výpočet!C26) | G33: =IF(F33="","",F33/D33*E33)
B34: Fugát kejdy skotu | D34: =výpočet!N27 -> 20 | E34: =výpočet!M27 -> 0.15 | F34: =IF(výpočet!C27=0,"",výpočet!C27) | G34: =IF(F34="","",F34/D34*E34)
B35: Kejda prasat | D35: =výpočet!N28 -> 20 | E35: =výpočet!M28 -> 0.1 | F35: =IF(výpočet!C28=0,"",výpočet!C28) | G35: =IF(F35="","",F35/D35*E35)
B36: Fugát kejdy prasat | D36: =výpočet!N29 -> 20 | E36: =výpočet!M29 -> 0.07 | F36: =IF(výpočet!C29=0,"",výpočet!C29) | G36: =IF(F36="","",F36/D36*E36)
B37: Digestát | D37: =výpočet!N30 -> 20 | E37: =výpočet!M30 -> 0.15 | F37: =IF(výpočet!C30=0,"",výpočet!C30) | G37: =IF(F37="","",F37/D37*E37)
B38: Fugát digestátu | D38: =výpočet!N31 -> 20 | E38: =výpočet!M31 -> 0.1 | F38: =IF(výpočet!C31=0,"",výpočet!C31) | G38: =IF(F38="","",F38/D38*E38)
B39: Výpalky melasové zahuštěné | D39: =výpočet!N32 -> 5 | E39: =výpočet!M32 -> 0.15 | F39: =IF(výpočet!C32=0,"",výpočet!C32) | G39: =IF(F39="","",F39/D39*E39)
... B43: Drůbeží trus uleželý | D43: =výpočet!N36 -> 5 | E43: =výpočet!M36 -> 0.13 | F43: =IF(výpočet!C36=0,"",výpočet!C36) | G43: =IF(F43="","",F43/D43*E43)
B44: Celkem | G44: =IF(E9="","",SUM(G28:G43))
B46: Tabulka č. 5 Dodání organické hmoty do půdy a další opatření
B47: Použití statkových hnojiv rostlinného původu a půdoochranných technologií | E47: Váhový koeficient (na 1 ha) | F47: Výměra (ha) | G47: Přepočtená plocha (ha)
...

Sheet DPB s PT
B1: Ekoplatba 2027 – výpočet pro vyhodnocení hospodaření s organickou hmotou na standardní orné půdě
B2: Obchodní závod | D2: =IF(výpočet!C2=0,"",výpočet!C2) | H2: IČO | I2: =IF(výpočet!F2=0,"",výpočet!F2) | J2: ID LPIS | K2: =IF(výpočet!G2=0,"",výpočet!G2)
B3: Tabulka č. 7 Seznam dílů půdních bloků, na kterých byly použity půdoochranné technologie (v případě potřeby lze uprostřed přidat řádky = vložit buňky)
B4: Číslo čtverce | C4: Zkrácený kód DPB | D4: Výměra DPB (ha) | E4: Datum operace | F4: Strip-till (ha) | G4: Přímé setí, do | J4: Předplodina, včetně meziplodin | K4: Cílová plodina
G5: nezpracované půdy (ha) | H5: meziplodin (ha) | I5: rostlinných zbytků (ha)
B28: Celkem | F28: =SUM(F6:F27) -> 0 | G28: =SUM(G6:G27) -> 0 | H28: =SUM(H6:H27) -> 0 | I28: =SUM(I6:I27) -> 0
B30: Kontrola souladu údajů vyplněných žadatelem do tabulky č. 7 a do 1. listu "výpočet"
B31: Položky | F31: Strip-till (ha) | G31: Přímé setí do nezpracované půdy, meziplodin nebo rostlinných zbytků (ha)
B32: Součet z jednotlivých DPB (tabulka č. 7) | F32: =F28 -> 0 | G32: =G28+H28+I28 -> 0
B33: Přenos z listu "výpočet" (řádky č. 50 a 51) | F33: =výpočet!C50 -> 0 | G33: =výpočet!C51 -> 0
B34: Rozdíl | F34: =F32-F33 -> 0 | G34: =G32-G33 -> 0
B35: =IF(F34<0,"nesoulad výměry technologií s údaji v 1. listu",IF(F34=0,"","nesoulad výměry technologií s údaji v 1. listu")) | G35: =IF(G34<0,"nesoulad výměry technologií s údaji v 1. listu",IF(G34=0,"","nesoulad výměry technologií s údaji v 1. listu"))
